BEGIN:VCALENDAR
VERSION:2.0
PRODID:calendify.com
BEGIN:VEVENT
UID:calendify-session-7GZMrxG840o
DTSTART:20210207T140000Z
SEQUENCE:0
TRANSP:OPAQUE
DTEND:20210207T150000Z
URL:https://calendify.com/session/7GZMrxG840o
LOCATION:M.misc
SUMMARY:The Evolution of File Descriptor Monitoring in Linux
CLASS:PUBLIC
DESCRIPTION:https://calendify.com/session/7GZMrxG840o
DTSTAMP:20260423T023113Z
CREATED:20210114T155443Z
LAST-MODIFIED:20210208T224803Z
END:VEVENT
END:VCALENDAR