BEGIN:VCALENDAR
VERSION:2.0
PRODID:calendify.com
BEGIN:VEVENT
UID:calendify-session-7GZMrxRA40o
DTSTART:20201229T193000Z
SEQUENCE:0
TRANSP:OPAQUE
DTEND:20201229T202500Z
URL:https://calendify.com/session/7GZMrxRA40o
LOCATION:OIO/A:F Bühne
SUMMARY:Open-Source-Initiativen der deutschen und europäischen Regierungen
CLASS:PUBLIC
DESCRIPTION:https://calendify.com/session/7GZMrxRA40o
DTSTAMP:20260421T130247Z
CREATED:20210113T024803Z
LAST-MODIFIED:20210114T154804Z
END:VEVENT
END:VCALENDAR