BEGIN:VCALENDAR
VERSION:2.0
PRODID:calendify.com
BEGIN:VEVENT
UID:calendify-session-7GZMrxlz40o
DTSTART:20210206T163000Z
SEQUENCE:0
TRANSP:OPAQUE
DTEND:20210206T170000Z
URL:https://calendify.com/session/7GZMrxlz40o
LOCATION:D.go
SUMMARY:The State of Go
CLASS:PUBLIC
DESCRIPTION:https://calendify.com/session/7GZMrxlz40o
DTSTAMP:20260419T140840Z
CREATED:20210125T190820Z
LAST-MODIFIED:20210208T224802Z
END:VEVENT
END:VCALENDAR