BEGIN:VCALENDAR
VERSION:2.0
PRODID:calendify.com
BEGIN:VEVENT
UID:calendify-session-7GZMrxrD40o
DTSTART:20210207T120500Z
SEQUENCE:0
TRANSP:OPAQUE
DTEND:20210207T124500Z
URL:https://calendify.com/session/7GZMrxrD40o
LOCATION:D.geospatial
SUMMARY:OpenStreetMap in Africa
CLASS:PUBLIC
DESCRIPTION:https://calendify.com/session/7GZMrxrD40o
DTSTAMP:20260424T015224Z
CREATED:20210111T170320Z
LAST-MODIFIED:20210208T224804Z
END:VEVENT
END:VCALENDAR