BEGIN:VCALENDAR
VERSION:2.0
PRODID:calendify.com
BEGIN:VEVENT
UID:calendify-session-7GZMrxz940o
DTSTART:20210206T104000Z
SEQUENCE:0
TRANSP:OPAQUE
DTEND:20210206T110000Z
URL:https://calendify.com/session/7GZMrxz940o
LOCATION:S.ntop
SUMMARY:Industrial Network Monitoring With ntopng
CLASS:PUBLIC
DESCRIPTION:https://calendify.com/session/7GZMrxz940o
DTSTAMP:20260420T011820Z
CREATED:20210203T141803Z
LAST-MODIFIED:20210208T224803Z
END:VEVENT
END:VCALENDAR