BEGIN:VCALENDAR
VERSION:2.0
PRODID:calendify.com
BEGIN:VEVENT
UID:calendify-session-98dgn01eOv3
DTSTART:20210207T163000Z
SEQUENCE:0
TRANSP:OPAQUE
DTEND:20210207T170000Z
URL:https://calendify.com/session/98dgn01eOv3
LOCATION:D.python
SUMMARY:Escaping the Cargo Cult
CLASS:PUBLIC
DESCRIPTION:https://calendify.com/session/98dgn01eOv3
DTSTAMP:20260419T182309Z
CREATED:20210113T115146Z
LAST-MODIFIED:20210208T224804Z
END:VEVENT
END:VCALENDAR