BEGIN:VCALENDAR
VERSION:2.0
PRODID:calendify.com
BEGIN:VEVENT
UID:calendify-session-98dgn0JnOv3
DTSTART:20210206T130000Z
SEQUENCE:0
TRANSP:OPAQUE
DTEND:20210206T133000Z
URL:https://calendify.com/session/98dgn0JnOv3
LOCATION:S.appinventor
SUMMARY:Minigame: Codi Clicker 
CLASS:PUBLIC
DESCRIPTION:https://calendify.com/session/98dgn0JnOv3
DTSTAMP:20260420T170842Z
CREATED:20210205T150344Z
LAST-MODIFIED:20210208T224803Z
END:VEVENT
END:VCALENDAR