BEGIN:VCALENDAR
VERSION:2.0
PRODID:calendify.com
BEGIN:VEVENT
UID:calendify-session-98dgn0P7Ov3
DTSTART:20201228T004800Z
SEQUENCE:0
TRANSP:OPAQUE
DTEND:20201228T025400Z
URL:https://calendify.com/session/98dgn0P7Ov3
LOCATION:classics
SUMMARY:26c3 Hacker Jeopardy
CLASS:PUBLIC
DESCRIPTION:https://calendify.com/session/98dgn0P7Ov3
DTSTAMP:20260421T055857Z
CREATED:20201230T143302Z
LAST-MODIFIED:20211226T145746Z
END:VEVENT
END:VCALENDAR