BEGIN:VCALENDAR
VERSION:2.0
PRODID:calendify.com
BEGIN:VEVENT
UID:calendify-session-98dgn0RAOv3
DTSTART:20210206T155000Z
SEQUENCE:0
TRANSP:OPAQUE
DTEND:20210206T161500Z
URL:https://calendify.com/session/98dgn0RAOv3
LOCATION:D.hardware.trusted
SUMMARY:CheriBSD
CLASS:PUBLIC
DESCRIPTION:https://calendify.com/session/98dgn0RAOv3
DTSTAMP:20260423T084026Z
CREATED:20210111T170318Z
LAST-MODIFIED:20210208T224802Z
END:VEVENT
END:VCALENDAR