BEGIN:VCALENDAR
VERSION:2.0
PRODID:calendify.com
BEGIN:VEVENT
UID:calendify-session-98dgn0Y7Ov3
DTSTART:20210206T083000Z
SEQUENCE:0
TRANSP:OPAQUE
DTEND:20210206T103500Z
URL:https://calendify.com/session/98dgn0Y7Ov3
LOCATION:S.kde
SUMMARY:Welcome to the stand for KDE Community
CLASS:PUBLIC
DESCRIPTION:https://calendify.com/session/98dgn0Y7Ov3
DTSTAMP:20260419T211916Z
CREATED:20210125T190820Z
LAST-MODIFIED:20210208T224803Z
END:VEVENT
END:VCALENDAR