BEGIN:VCALENDAR
VERSION:2.0
PRODID:calendify.com
BEGIN:VEVENT
UID:calendify-session-98dgn0YYOv3
DTSTART:20210206T083000Z
SEQUENCE:0
TRANSP:OPAQUE
DTEND:20210206T090000Z
URL:https://calendify.com/session/98dgn0YYOv3
LOCATION:S.openharmony
SUMMARY:Welcome to the stand for OpenHarmony Project
CLASS:PUBLIC
DESCRIPTION:https://calendify.com/session/98dgn0YYOv3
DTSTAMP:20260419T182314Z
CREATED:20210125T190821Z
LAST-MODIFIED:20210208T224803Z
END:VEVENT
END:VCALENDAR