BEGIN:VCALENDAR
VERSION:2.0
PRODID:calendify.com
BEGIN:VEVENT
UID:calendify-session-98dgn0bnOv3
DTSTART:20201229T152000Z
SEQUENCE:0
TRANSP:OPAQUE
DTEND:20201229T172000Z
URL:https://calendify.com/session/98dgn0bnOv3
LOCATION:Wikipaka Meetups
SUMMARY:Status: Web of Mobility (Edition 2020)
CLASS:PUBLIC
DESCRIPTION:https://calendify.com/session/98dgn0bnOv3
DTSTAMP:20260423T105408Z
CREATED:20210111T023303Z
LAST-MODIFIED:20210114T154804Z
END:VEVENT
END:VCALENDAR