BEGIN:VCALENDAR
VERSION:2.0
PRODID:calendify.com
BEGIN:VEVENT
UID:calendify-session-98dgn0k8Ov3
DTSTART:20210206T103500Z
SEQUENCE:0
TRANSP:OPAQUE
DTEND:20210206T104500Z
URL:https://calendify.com/session/98dgn0k8Ov3
LOCATION:D.research
SUMMARY:PANDORÆ
CLASS:PUBLIC
DESCRIPTION:https://calendify.com/session/98dgn0k8Ov3
DTSTAMP:20260421T081657Z
CREATED:20210111T170319Z
LAST-MODIFIED:20210208T224803Z
END:VEVENT
END:VCALENDAR