BEGIN:VCALENDAR
VERSION:2.0
PRODID:calendify.com
BEGIN:VEVENT
UID:calendify-session-98dgn0kZOv3
DTSTART:20210206T142500Z
SEQUENCE:0
TRANSP:OPAQUE
DTEND:20210206T145000Z
URL:https://calendify.com/session/98dgn0kZOv3
LOCATION:D.research
SUMMARY:Open source isn't enough. Working towards sustainable solutions wit
 h PubPub.
CLASS:PUBLIC
DESCRIPTION:https://calendify.com/session/98dgn0kZOv3
DTSTAMP:20260423T161334Z
CREATED:20210111T170319Z
LAST-MODIFIED:20210208T224803Z
END:VEVENT
END:VCALENDAR