BEGIN:VCALENDAR
VERSION:2.0
PRODID:calendify.com
BEGIN:VEVENT
UID:calendify-session-98dgn3DZ4v3
DTSTART:20200507T140000Z
SEQUENCE:0
TRANSP:OPAQUE
DTEND:20200507T142500Z
URL:https://calendify.com/session/98dgn3DZ4v3
LOCATION:ASAP 2
SUMMARY:Daten\, Daten\, Daten: Welche Daten helfen im Kampf gegen das Virus
 ?
CLASS:PUBLIC
DESCRIPTION:https://calendify.com/session/98dgn3DZ4v3
DTSTAMP:20260419T223350Z
CREATED:20200504T092946Z
LAST-MODIFIED:20210210T031513Z
END:VEVENT
END:VCALENDAR