BEGIN:VCALENDAR
VERSION:2.0
PRODID:calendify.com
BEGIN:VEVENT
UID:calendify-session-98dgn3E74v3
DTSTART:20190531T161500Z
SEQUENCE:0
TRANSP:OPAQUE
DTEND:20190531T164500Z
URL:https://calendify.com/session/98dgn3E74v3
LOCATION:ZKM_OpenHUB
SUMMARY:Magenta hassle
CLASS:PUBLIC
DESCRIPTION:https://calendify.com/session/98dgn3E74v3
DTSTAMP:20260425T005228Z
CREATED:20200509T115103Z
LAST-MODIFIED:20200509T115103Z
END:VEVENT
END:VCALENDAR