BEGIN:VCALENDAR
VERSION:2.0
PRODID:calendify.com
BEGIN:VEVENT
UID:calendify-session-98dgn3Ex4v3
DTSTART:20190531T113000Z
SEQUENCE:0
TRANSP:OPAQUE
DTEND:20190531T123000Z
URL:https://calendify.com/session/98dgn3Ex4v3
LOCATION:HfG_Studio
SUMMARY:What every programmer should know about inline assembler
CLASS:PUBLIC
DESCRIPTION:https://calendify.com/session/98dgn3Ex4v3
DTSTAMP:20260422T021945Z
CREATED:20200509T115100Z
LAST-MODIFIED:20200509T115100Z
END:VEVENT
END:VCALENDAR