BEGIN:VCALENDAR
VERSION:2.0
PRODID:calendify.com
BEGIN:VEVENT
UID:calendify-session-98dgn3KY4v3
DTSTART:20200202T090000Z
SEQUENCE:0
TRANSP:OPAQUE
DTEND:20200202T093000Z
URL:https://calendify.com/session/98dgn3KY4v3
LOCATION:UB2.252A (Lameere)
SUMMARY:Porting Go to NetBSD/arm64
CLASS:PUBLIC
DESCRIPTION:https://calendify.com/session/98dgn3KY4v3
DTSTAMP:20260419T122011Z
CREATED:20200513T234735Z
LAST-MODIFIED:20210426T093310Z
END:VEVENT
END:VCALENDAR