BEGIN:VCALENDAR
VERSION:2.0
PRODID:calendify.com
BEGIN:VEVENT
UID:calendify-session-98dgn3LY4v3
DTSTART:20200202T093000Z
SEQUENCE:0
TRANSP:OPAQUE
DTEND:20200202T095500Z
URL:https://calendify.com/session/98dgn3LY4v3
LOCATION:UD2.120 (Chavanne)
SUMMARY:Jaegertracing in Ceph
CLASS:PUBLIC
DESCRIPTION:https://calendify.com/session/98dgn3LY4v3
DTSTAMP:20260423T062547Z
CREATED:20200513T234735Z
LAST-MODIFIED:20210426T093310Z
END:VEVENT
END:VCALENDAR