BEGIN:VCALENDAR
VERSION:2.0
PRODID:calendify.com
BEGIN:VEVENT
UID:calendify-session-98dgn3QA4v3
DTSTART:20180511T190000Z
SEQUENCE:0
TRANSP:OPAQUE
DTEND:20180511T200000Z
URL:https://calendify.com/session/98dgn3QA4v3
LOCATION:ZKM_OpenHUB
SUMMARY:Hold Steering Wheel! Autopilots and Autonomous Driving.
CLASS:PUBLIC
DESCRIPTION:https://calendify.com/session/98dgn3QA4v3
DTSTAMP:20260422T014717Z
CREATED:20200513T011828Z
LAST-MODIFIED:20200513T011828Z
END:VEVENT
END:VCALENDAR