BEGIN:VCALENDAR
VERSION:2.0
PRODID:calendify.com
BEGIN:VEVENT
UID:calendify-session-98dgn3rA4v3
DTSTART:20190421T170000Z
SEQUENCE:0
TRANSP:OPAQUE
DTEND:20190421T174500Z
URL:https://calendify.com/session/98dgn3rA4v3
LOCATION:EI 7
SUMMARY:Generative Adversarial Networks für Anfänger
CLASS:PUBLIC
DESCRIPTION:https://calendify.com/session/98dgn3rA4v3
DTSTAMP:20260423T133855Z
CREATED:20200513T003629Z
LAST-MODIFIED:20200513T003629Z
END:VEVENT
END:VCALENDAR