BEGIN:VCALENDAR
VERSION:2.0
PRODID:calendify.com
BEGIN:VEVENT
UID:calendify-session-98dgn7874v3
DTSTART:20260201T103000Z
SEQUENCE:0
TRANSP:OPAQUE
DTEND:20260201T105500Z
URL:https://calendify.com/session/98dgn7874v3
LOCATION:K.3.401
SUMMARY:lwresd: how can be obsolete daemon reused for new features
CLASS:PUBLIC
DESCRIPTION:https://calendify.com/session/98dgn7874v3
DTSTAMP:20260424T072500Z
CREATED:20260131T063311Z
LAST-MODIFIED:20260201T163231Z
END:VEVENT
END:VCALENDAR