BEGIN:VCALENDAR
VERSION:2.0
PRODID:calendify.com
BEGIN:VEVENT
UID:calendify-session-98dgn7V84v3
DTSTART:20260201T085500Z
SEQUENCE:0
TRANSP:OPAQUE
DTEND:20260201T092500Z
URL:https://calendify.com/session/98dgn7V84v3
LOCATION:UD2.218A
SUMMARY:Reclaiming the Web: Surfing the Internet on Torrents
CLASS:PUBLIC
DESCRIPTION:https://calendify.com/session/98dgn7V84v3
DTSTAMP:20260420T083200Z
CREATED:20260131T063328Z
LAST-MODIFIED:20260201T163237Z
END:VEVENT
END:VCALENDAR