BEGIN:VCALENDAR
VERSION:2.0
PRODID:calendify.com
BEGIN:VEVENT
UID:calendify-session-98dgnA87Mv3
DTSTART:20200905T140000Z
SEQUENCE:0
TRANSP:OPAQUE
DTEND:20200905T141500Z
URL:https://calendify.com/session/98dgnA87Mv3
LOCATION:Schneider-Hoover
SUMMARY:Warum momentan Lernvideos auf YouTube durch die Decke gehen?
CLASS:PUBLIC
DESCRIPTION:https://calendify.com/session/98dgnA87Mv3
DTSTAMP:20260420T205822Z
CREATED:20200904T143714Z
LAST-MODIFIED:20200904T143714Z
END:VEVENT
END:VCALENDAR