BEGIN:VCALENDAR
VERSION:2.0
PRODID:calendify.com
BEGIN:VEVENT
UID:calendify-session-98dgnB0Agv3
DTSTART:20230722T110000Z
SEQUENCE:0
TRANSP:OPAQUE
DTEND:20230722T150000Z
URL:https://calendify.com/session/98dgnB0Agv3
LOCATION:Brettspielecke
SUMMARY:Brettspiele
CLASS:PUBLIC
DESCRIPTION:https://calendify.com/session/98dgnB0Agv3
DTSTAMP:20260424T015254Z
CREATED:20230806T113705Z
LAST-MODIFIED:20230806T113705Z
END:VEVENT
END:VCALENDAR