BEGIN:VCALENDAR
VERSION:2.0
PRODID:calendify.com
BEGIN:VEVENT
UID:calendify-session-98dgnB27gv3
DTSTART:20230610T200000Z
SEQUENCE:0
TRANSP:OPAQUE
DTEND:20230610T210000Z
URL:https://calendify.com/session/98dgnB27gv3
LOCATION:Blauer Salon
SUMMARY:Instrument to Remove: Using Java agents for fun and profit
CLASS:PUBLIC
DESCRIPTION:https://calendify.com/session/98dgnB27gv3
DTSTAMP:20260422T170040Z
CREATED:20230610T134002Z
LAST-MODIFIED:20230611T215002Z
END:VEVENT
END:VCALENDAR