BEGIN:VCALENDAR
VERSION:2.0
PRODID:calendify.com
BEGIN:VEVENT
UID:calendify-session-98dgnBGYgv3
DTSTART:20231228T160000Z
SEQUENCE:0
TRANSP:OPAQUE
DTEND:20231228T170000Z
URL:https://calendify.com/session/98dgnBGYgv3
LOCATION:Stage Y
SUMMARY:Greg Egan's „Dichronauts“: A universe with two timelike dimensi
 ons
CLASS:PUBLIC
DESCRIPTION:https://calendify.com/session/98dgnBGYgv3
DTSTAMP:20260423T055635Z
CREATED:20231226T081003Z
LAST-MODIFIED:20240401T142932Z
END:VEVENT
END:VCALENDAR