BEGIN:VCALENDAR
VERSION:2.0
PRODID:calendify.com
BEGIN:VEVENT
UID:calendify-session-98dgnBJngv3
DTSTART:20231230T120000Z
SEQUENCE:0
TRANSP:OPAQUE
DTEND:20231230T140000Z
URL:https://calendify.com/session/98dgnBJngv3
LOCATION:Stage Y
SUMMARY:IT-Security in Arztpraxis und Apotheke
CLASS:PUBLIC
DESCRIPTION:https://calendify.com/session/98dgnBJngv3
DTSTAMP:20260423T055635Z
CREATED:20231228T133003Z
LAST-MODIFIED:20240401T142934Z
END:VEVENT
END:VCALENDAR