BEGIN:VCALENDAR
VERSION:2.0
PRODID:calendify.com
BEGIN:VEVENT
UID:calendify-session-98dgnBKkgv3
DTSTART:20240601T140000Z
SEQUENCE:0
TRANSP:OPAQUE
DTEND:20240601T150000Z
URL:https://calendify.com/session/98dgnBKkgv3
LOCATION:HfG Hackcenter Low
SUMMARY:Spliceworkshop - Das Löten der Glasfaser
CLASS:PUBLIC
DESCRIPTION:https://calendify.com/session/98dgnBKkgv3
DTSTAMP:20260420T013628Z
CREATED:20240531T122740Z
LAST-MODIFIED:20240602T132303Z
END:VEVENT
END:VCALENDAR