BEGIN:VCALENDAR
VERSION:2.0
PRODID:calendify.com
BEGIN:VEVENT
UID:calendify-session-98dgnBNZgv3
DTSTART:20240530T174500Z
SEQUENCE:0
TRANSP:OPAQUE
DTEND:20240530T184500Z
URL:https://calendify.com/session/98dgnBNZgv3
LOCATION:ZKM Vortragssaal
SUMMARY:42 Tricks fürs SMD-Löten\, Nummer 23 wird sie überraschen!
CLASS:PUBLIC
DESCRIPTION:https://calendify.com/session/98dgnBNZgv3
DTSTAMP:20260420T013633Z
CREATED:20240531T122738Z
LAST-MODIFIED:20240602T132303Z
END:VEVENT
END:VCALENDAR