BEGIN:VCALENDAR
VERSION:2.0
PRODID:calendify.com
BEGIN:VEVENT
UID:calendify-session-98dgnBQxgv3
DTSTART:20231230T110000Z
SEQUENCE:0
TRANSP:OPAQUE
DTEND:20231230T130000Z
URL:https://calendify.com/session/98dgnBQxgv3
LOCATION:Stage H
SUMMARY:Friends of Rosenpass Meeting
CLASS:PUBLIC
DESCRIPTION:https://calendify.com/session/98dgnBQxgv3
DTSTAMP:20260423T030841Z
CREATED:20231221T100106Z
LAST-MODIFIED:20240401T142934Z
END:VEVENT
END:VCALENDAR