BEGIN:VCALENDAR
VERSION:2.0
PRODID:calendify.com
BEGIN:VEVENT
UID:calendify-session-98dgnBVngv3
DTSTART:20231228T160000Z
SEQUENCE:0
TRANSP:OPAQUE
DTEND:20231228T190000Z
URL:https://calendify.com/session/98dgnBVngv3
LOCATION:Chillout Lounge
SUMMARY:Mo Greens & Beh
CLASS:PUBLIC
DESCRIPTION:https://calendify.com/session/98dgnBVngv3
DTSTAMP:20260423T055625Z
CREATED:20231227T021002Z
LAST-MODIFIED:20240401T142932Z
END:VEVENT
END:VCALENDAR