BEGIN:VCALENDAR
VERSION:2.0
PRODID:calendify.com
BEGIN:VEVENT
UID:calendify-session-98dgnBa5gv3
DTSTART:20240531T100000Z
SEQUENCE:0
TRANSP:OPAQUE
DTEND:20240531T120000Z
URL:https://calendify.com/session/98dgnBa5gv3
LOCATION:HfG Raum 115
SUMMARY:Zurückbleiben bitte: Das U-Bahn Spiel - die Communityentwicklung e
 ines Spieles
CLASS:PUBLIC
DESCRIPTION:https://calendify.com/session/98dgnBa5gv3
DTSTAMP:20260420T013623Z
CREATED:20240531T122740Z
LAST-MODIFIED:20240602T132303Z
END:VEVENT
END:VCALENDAR