BEGIN:VCALENDAR
VERSION:2.0
PRODID:calendify.com
BEGIN:VEVENT
UID:calendify-session-98dgnBlmgv3
DTSTART:20231229T153000Z
SEQUENCE:0
TRANSP:OPAQUE
DTEND:20231229T173000Z
URL:https://calendify.com/session/98dgnBlmgv3
LOCATION:Saal 1
SUMMARY:Vierjahresrückblick des CCC
CLASS:PUBLIC
DESCRIPTION:https://calendify.com/session/98dgnBlmgv3
DTSTAMP:20260421T202506Z
CREATED:20231215T204820Z
LAST-MODIFIED:20240401T142932Z
END:VEVENT
END:VCALENDAR