BEGIN:VCALENDAR
VERSION:2.0
PRODID:calendify.com
BEGIN:VEVENT
UID:calendify-session-98dgnBwkgv3
DTSTART:20240503T170000Z
SEQUENCE:0
TRANSP:OPAQUE
DTEND:20240503T175000Z
URL:https://calendify.com/session/98dgnBwkgv3
LOCATION:Flur
SUMMARY:Einführung in 3D-CAD mit Dune 3D
CLASS:PUBLIC
DESCRIPTION:https://calendify.com/session/98dgnBwkgv3
DTSTAMP:20260422T095605Z
CREATED:20240531T124354Z
LAST-MODIFIED:20240531T124354Z
END:VEVENT
END:VCALENDAR