BEGIN:VCALENDAR
VERSION:2.0
PRODID:calendify.com
BEGIN:VEVENT
UID:calendify-session-98dgnByZgv3
DTSTART:20240330T123000Z
SEQUENCE:0
TRANSP:OPAQUE
DTEND:20240330T133000Z
URL:https://calendify.com/session/98dgnByZgv3
LOCATION:Bitmarckplatz - D003
SUMMARY:IT in Waldbesetzungen - Und was wir da machen können
CLASS:PUBLIC
DESCRIPTION:https://calendify.com/session/98dgnByZgv3
DTSTAMP:20260423T175411Z
CREATED:20240329T152817Z
LAST-MODIFIED:20240401T142841Z
END:VEVENT
END:VCALENDAR