BEGIN:VCALENDAR
VERSION:2.0
PRODID:calendify.com
BEGIN:VEVENT
UID:calendify-session-98dgnEK8Mv3
DTSTART:20241227T154000Z
SEQUENCE:0
TRANSP:OPAQUE
DTEND:20241227T162000Z
URL:https://calendify.com/session/98dgnEK8Mv3
LOCATION:Stage YELL
SUMMARY:Was tun\, wenn man ein Datenleck entdeckt hat?
CLASS:PUBLIC
DESCRIPTION:https://calendify.com/session/98dgnEK8Mv3
DTSTAMP:20260423T091431Z
CREATED:20241227T141458Z
LAST-MODIFIED:20250101T225002Z
END:VEVENT
END:VCALENDAR