BEGIN:VCALENDAR
VERSION:2.0
PRODID:calendify.com
BEGIN:VEVENT
UID:calendify-session-98dgnEd8Mv3
DTSTART:20240921T154500Z
SEQUENCE:0
TRANSP:OPAQUE
DTEND:20240921T170000Z
URL:https://calendify.com/session/98dgnEd8Mv3
LOCATION:Kleiner Saal
SUMMARY:Not here nor there – Jewish left in Palestine-Israel navigating a
  nationalist landscape
CLASS:PUBLIC
DESCRIPTION:https://calendify.com/session/98dgnEd8Mv3
DTSTAMP:20260420T215418Z
CREATED:20241208T220338Z
LAST-MODIFIED:20241208T220338Z
END:VEVENT
END:VCALENDAR