BEGIN:VCALENDAR
VERSION:2.0
PRODID:calendify.com
BEGIN:VEVENT
UID:calendify-session-98dgnEdAMv3
DTSTART:20240921T203000Z
SEQUENCE:0
TRANSP:OPAQUE
DTEND:20240921T220000Z
URL:https://calendify.com/session/98dgnEdAMv3
LOCATION:Henny Brenner Saal
SUMMARY:Die erste Speedhacking-Show der Welt
CLASS:PUBLIC
DESCRIPTION:https://calendify.com/session/98dgnEdAMv3
DTSTAMP:20260420T233048Z
CREATED:20241208T220338Z
LAST-MODIFIED:20241208T220338Z
END:VEVENT
END:VCALENDAR