BEGIN:VCALENDAR
VERSION:2.0
PRODID:calendify.com
BEGIN:VEVENT
UID:calendify-session-98dgnEknMv3
DTSTART:20241004T143042Z
SEQUENCE:0
TRANSP:OPAQUE
DTEND:20241004T160042Z
URL:https://calendify.com/session/98dgnEknMv3
LOCATION:B002 - Trockendock
SUMMARY:Spliceworkshop - Das Löten der Glasfaser
CLASS:PUBLIC
DESCRIPTION:https://calendify.com/session/98dgnEknMv3
DTSTAMP:20260422T151705Z
CREATED:20241208T215140Z
LAST-MODIFIED:20241208T215140Z
END:VEVENT
END:VCALENDAR