BEGIN:VCALENDAR
VERSION:2.0
PRODID:calendify.com
BEGIN:VEVENT
UID:calendify-session-98dgnR6xgv3
DTSTART:20211227T170000Z
SEQUENCE:0
TRANSP:OPAQUE
DTEND:20211227T190000Z
URL:https://calendify.com/session/98dgnR6xgv3
LOCATION:rC3 Lounge
SUMMARY:BarbNerdy
CLASS:PUBLIC
DESCRIPTION:https://calendify.com/session/98dgnR6xgv3
DTSTAMP:20260421T111205Z
CREATED:20211226T205000Z
LAST-MODIFIED:20211230T225002Z
END:VEVENT
END:VCALENDAR