BEGIN:VCALENDAR
VERSION:2.0
PRODID:calendify.com
BEGIN:VEVENT
UID:calendify-session-98dgnRGmgv3
DTSTART:20211229T150000Z
SEQUENCE:0
TRANSP:OPAQUE
DTEND:20211229T163000Z
URL:https://calendify.com/session/98dgnRGmgv3
LOCATION:Sendezentrum Bühne
SUMMARY:Der NSU-Watch Jahresrückblick 2021
CLASS:PUBLIC
DESCRIPTION:https://calendify.com/session/98dgnRGmgv3
DTSTAMP:20260420T111641Z
CREATED:20211220T014017Z
LAST-MODIFIED:20211229T125002Z
END:VEVENT
END:VCALENDAR