BEGIN:VCALENDAR
VERSION:2.0
PRODID:calendify.com
BEGIN:VEVENT
UID:calendify-session-98dgnRNngv3
DTSTART:20220205T153500Z
SEQUENCE:0
TRANSP:OPAQUE
DTEND:20220205T163500Z
URL:https://calendify.com/session/98dgnRNngv3
LOCATION:D.raku
SUMMARY:Raku Steering Council Q&A Panel
CLASS:PUBLIC
DESCRIPTION:https://calendify.com/session/98dgnRNngv3
DTSTAMP:20260420T131708Z
CREATED:20220120T214604Z
LAST-MODIFIED:20220206T225003Z
END:VEVENT
END:VCALENDAR