BEGIN:VCALENDAR
VERSION:2.0
PRODID:calendify.com
BEGIN:VEVENT
UID:calendify-session-98dgnRWkgv3
DTSTART:20211228T150000Z
SEQUENCE:0
TRANSP:OPAQUE
DTEND:20211228T154000Z
URL:https://calendify.com/session/98dgnRWkgv3
LOCATION:Chaos-West TV
SUMMARY:Kyber and Post-Quantum Crypto - How does it work?
CLASS:PUBLIC
DESCRIPTION:https://calendify.com/session/98dgnRWkgv3
DTSTAMP:20260420T061306Z
CREATED:20211220T014016Z
LAST-MODIFIED:20211230T225002Z
END:VEVENT
END:VCALENDAR