BEGIN:VCALENDAR
VERSION:2.0
PRODID:calendify.com
BEGIN:VEVENT
UID:calendify-session-98dgnRbxgv3
DTSTART:20210310T201500Z
SEQUENCE:0
TRANSP:OPAQUE
DTEND:20210310T214500Z
URL:https://calendify.com/session/98dgnRbxgv3
LOCATION:Zoom Room 3A
SUMMARY:Truth as a Public Good
CLASS:PUBLIC
DESCRIPTION:https://calendify.com/session/98dgnRbxgv3
DTSTAMP:20260422T102902Z
CREATED:20210426T094927Z
LAST-MODIFIED:20210426T094927Z
END:VEVENT
END:VCALENDAR