BEGIN:VCALENDAR
VERSION:2.0
PRODID:calendify.com
BEGIN:VEVENT
UID:calendify-session-98dgnRdAgv3
DTSTART:20210521T120000Z
SEQUENCE:0
TRANSP:OPAQUE
DTEND:20210521T123500Z
URL:https://calendify.com/session/98dgnRdAgv3
LOCATION:TINCON
SUMMARY:Wie findet ihr...?
CLASS:PUBLIC
DESCRIPTION:https://calendify.com/session/98dgnRdAgv3
DTSTAMP:20260422T163801Z
CREATED:20210508T131338Z
LAST-MODIFIED:20210524T215002Z
END:VEVENT
END:VCALENDAR