BEGIN:VCALENDAR
VERSION:2.0
PRODID:calendify.com
BEGIN:VEVENT
UID:calendify-session-98dgnRmkgv3
DTSTART:20211227T110000Z
SEQUENCE:0
TRANSP:OPAQUE
DTEND:20211227T122000Z
URL:https://calendify.com/session/98dgnRmkgv3
LOCATION:r3s - Monheim/Rhein
SUMMARY:Die EU im Krisenmodus - Was bedeutet das für die Zukunft
CLASS:PUBLIC
DESCRIPTION:https://calendify.com/session/98dgnRmkgv3
DTSTAMP:20260422T093929Z
CREATED:20211220T014016Z
LAST-MODIFIED:20211230T225002Z
END:VEVENT
END:VCALENDAR