BEGIN:VCALENDAR
VERSION:2.0
PRODID:calendify.com
BEGIN:VEVENT
UID:calendify-session-98dgnRr5gv3
DTSTART:20211028T160000Z
SEQUENCE:0
TRANSP:OPAQUE
DTEND:20211028T164500Z
URL:https://calendify.com/session/98dgnRr5gv3
LOCATION:Stream
SUMMARY:Was hilft gegen Fake News? Recherche\, Recherche\, Recherche - und 
 Skepsis
CLASS:PUBLIC
DESCRIPTION:https://calendify.com/session/98dgnRr5gv3
DTSTAMP:20260424T003156Z
CREATED:20210924T213618Z
LAST-MODIFIED:20211101T215003Z
END:VEVENT
END:VCALENDAR