BEGIN:VCALENDAR
VERSION:2.0
PRODID:calendify.com
BEGIN:VEVENT
UID:calendify-session-98dgnRxegv3
DTSTART:20210308T133000Z
SEQUENCE:0
TRANSP:OPAQUE
URL:https://calendify.com/session/98dgnRxegv3
LOCATION:Art and Media
SUMMARY:Be Your Selfie! Collage
CLASS:PUBLIC
DESCRIPTION:https://calendify.com/session/98dgnRxegv3
DTSTAMP:20260425T153717Z
CREATED:20210426T094927Z
LAST-MODIFIED:20210426T094927Z
END:VEVENT
END:VCALENDAR