BEGIN:VCALENDAR
VERSION:2.0
PRODID:calendify.com
BEGIN:VEVENT
UID:calendify-session-98dgnb58gv3
DTSTART:20191228T211000Z
SEQUENCE:0
TRANSP:OPAQUE
DTEND:20191228T221000Z
URL:https://calendify.com/session/98dgnb58gv3
LOCATION:Eliza
SUMMARY:Confessions of a future terrorist
CLASS:PUBLIC
DESCRIPTION:https://calendify.com/session/98dgnb58gv3
DTSTAMP:20260423T134038Z
CREATED:20200429T014102Z
LAST-MODIFIED:20200429T014102Z
END:VEVENT
END:VCALENDAR